BEGIN:VCALENDAR
VERSION:2.0
METHOD:PUBLISH
PRODID:-//Accessible Web Design//My Calendar//http://www.joedolson.com//v//EN';
BEGIN:VEVENT
UID:9-9
LOCATION:
SUMMARY:Summer Games Festival
DTSTAMP:20241207T000000
ORGANIZER;CN=admin:MAILTO:webmaster@technologypartners.org.za
DTSTART:20241207T000000
DTEND:20241208T010000
CATEGORIES:Sports Event
URL;VALUE=URI:https://playernation.co.za/mc-events/summer-games-festival/?mc_id=9
DESCRIPTION:
END:VEVENT
END:VCALENDAR