BEGIN:VCALENDAR
VERSION:2.0
METHOD:PUBLISH
PRODID:-//Accessible Web Design//My Calendar//http://www.joedolson.com//v//EN';
BEGIN:VEVENT
UID:7-7
LOCATION:
SUMMARY:Champ of Champs
DTSTAMP:20240907T000000
ORGANIZER;CN=admin:MAILTO:webmaster@technologypartners.org.za
DTSTART:20240907T000000
DTEND:20240907T010000
CATEGORIES:Sports Event
URL;VALUE=URI:https://playernation.co.za/mc-events/champ-of-champs/?mc_id=7
DESCRIPTION:
END:VEVENT
END:VCALENDAR